BEGIN:VCALENDAR
VERSION:2.0
PRODID:https://www.bamberg.info/
X-PUBLISHED-TTL:P1D
BEGIN:VEVENT
UID:69ec35a13f525
DTSTART:20260502T110000Z
SEQUENCE:0
TRANSP:OPAQUE
DTEND:20260502T124500Z
URL:https://www.bamberg.info/veranstaltungen/themenfuehrung_hexenverfolgung
 -669021-12595247/
LOCATION:- Veranstaltung ohne festen Ort - Bamberg
SUMMARY:Themenführung: Hexenverfolgung in Bamberg
DESCRIPTION:Von Truden und dem Hexenbrenner
DTSTAMP:20260425T053145Z
END:VEVENT
END:VCALENDAR