BEGIN:VCALENDAR
VERSION:2.0
PRODID:https://www.bamberg.info/
X-PUBLISHED-TTL:P1D
BEGIN:VEVENT
UID:69e4c98a85780
DTSTART;VALUE=DATE:20261102
SEQUENCE:0
TRANSP:OPAQUE
DTEND;VALUE=DATE:20261102
URL:https://www.bamberg.info/veranstaltungen/trauer-caf-677243-12599795/
LOCATION:Hospizverein Bamberg e.V. im Christine Denzler-Labisch Haus - Bamb
 erg
SUMMARY:Trauer-Café
X-MICROSOFT-CDO-ALLDAYEVENT:TRUE
DTSTAMP:20260419T142442Z
END:VEVENT
END:VCALENDAR