BEGIN:VCALENDAR
VERSION:2.0
PRODID:https://www.bamberg.info/
X-PUBLISHED-TTL:P1D
BEGIN:VEVENT
UID:69eb9dd56fab1
DTSTART;VALUE=DATE:20260430
SEQUENCE:0
TRANSP:OPAQUE
DTEND;VALUE=DATE:20260430
URL:https://www.bamberg.info/veranstaltungen/vernissage_urauffuehrung_von_r
 -777771/
LOCATION:ETA Hoffmann Theater Bamberg - Bamberg
SUMMARY:Vernissage (Uraufführung) von Robert Seethaler
DESCRIPTION:Abo P und freier Verkauf
X-MICROSOFT-CDO-ALLDAYEVENT:TRUE
DTSTAMP:20260424T184405Z
END:VEVENT
END:VCALENDAR