BEGIN:VCALENDAR
VERSION:2.0
PRODID:https://www.bamberg.info/
X-PUBLISHED-TTL:P1D
BEGIN:VEVENT
UID:69e99f6b4b3d8
DTSTART;VALUE=DATE:20260605
SEQUENCE:0
TRANSP:OPAQUE
DTEND;VALUE=DATE:20260605
URL:https://www.bamberg.info/veranstaltungen/vernissage_urauffuehrung_von_r
 -808889-12683237/
LOCATION:ETA Hoffmann Theater Bamberg - Bamberg
SUMMARY:Vernissage (Uraufführung) von Robert Seethaler
DESCRIPTION:freier Verkauf
X-MICROSOFT-CDO-ALLDAYEVENT:TRUE
DTSTAMP:20260423T062619Z
END:VEVENT
END:VCALENDAR