BEGIN:VCALENDAR
VERSION:2.0
PRODID:https://www.bamberg.info/
X-PUBLISHED-TTL:P1D
BEGIN:VEVENT
UID:69e9b48b564de
DTSTART;VALUE=DATE:20260606
SEQUENCE:0
TRANSP:OPAQUE
DTEND;VALUE=DATE:20260606
URL:https://www.bamberg.info/veranstaltungen/vernissage_urauffuehrung_von_r
 -808893/
LOCATION:ETA Hoffmann Theater Bamberg - Bamberg
SUMMARY:Vernissage (Uraufführung) von Robert Seethaler - zum letzten Mal
DESCRIPTION:Freier Verkauf
X-MICROSOFT-CDO-ALLDAYEVENT:TRUE
DTSTAMP:20260423T075627Z
END:VEVENT
END:VCALENDAR