BEGIN:VCALENDAR
VERSION:2.0
PRODID:https://www.bamberg.info/
X-PUBLISHED-TTL:P1D
BEGIN:VEVENT
UID:69ed7f61f1405
DTSTART;VALUE=DATE:20260522
SEQUENCE:0
TRANSP:OPAQUE
DTEND;VALUE=DATE:20260522
URL:https://www.bamberg.info/veranstaltungen/voices_of_brazil_1_samba-night
 -778603-12668277/
LOCATION:Haas Säle - Bamberg
SUMMARY:Voices of Brazil – 1. Samba-Night Bamberg
X-MICROSOFT-CDO-ALLDAYEVENT:TRUE
DTSTAMP:20260426T045842Z
END:VEVENT
END:VCALENDAR