BEGIN:VCALENDAR
VERSION:2.0
PRODID:https://www.bamberg.info/
X-PUBLISHED-TTL:P1D
BEGIN:VEVENT
UID:69e4ed61bc552
DTSTART;VALUE=DATE:20261017
SEQUENCE:0
TRANSP:OPAQUE
DTEND;VALUE=DATE:20261017
URL:https://www.bamberg.info/veranstaltungen/weiherer_bockbieranstich-74162
 7-12643891/
LOCATION:Brauerei Gasthof Kundmüller - Viereth-Trunstadt
SUMMARY:Weiherer Bockbieranstich
X-MICROSOFT-CDO-ALLDAYEVENT:TRUE
DTSTAMP:20260419T165737Z
END:VEVENT
END:VCALENDAR