BEGIN:VCALENDAR
VERSION:2.0
PRODID:https://www.bamberg.info/
X-PUBLISHED-TTL:P1D
BEGIN:VEVENT
UID:69e5e091b60b6
DTSTART;VALUE=DATE:20261220
SEQUENCE:0
TRANSP:OPAQUE
DTEND;VALUE=DATE:20261220
URL:https://www.bamberg.info/veranstaltungen/weihnachtskonzert_der_gospelch
 -720157-12628701/
LOCATION:Kulturboden in der Marktscheune UG - Hallstadt
SUMMARY:Weihnachtskonzert der Gospelchöre
DESCRIPTION:Joy in belief
X-MICROSOFT-CDO-ALLDAYEVENT:TRUE
DTSTAMP:20260420T101513Z
END:VEVENT
END:VCALENDAR