BEGIN:VCALENDAR
VERSION:2.0
PRODID:https://www.bamberg.info/
X-PUBLISHED-TTL:P1D
BEGIN:VEVENT
UID:69e67d5f07ee9
DTSTART:20261126T070000Z
SEQUENCE:0
TRANSP:OPAQUE
DTEND:20261126T083000Z
URL:https://www.bamberg.info/veranstaltungen/weihnachtszauber_bamberg-35471
 5-0/
LOCATION:BAMBERG Tourismus & Kongress Service - Bamberg
SUMMARY:Weihnachtszauber Bamberg
DTSTAMP:20260420T212415Z
END:VEVENT
BEGIN:VEVENT
UID:69e67d5f07f3b
DTSTART:20261127T070000Z
SEQUENCE:0
TRANSP:OPAQUE
DTEND:20261127T083000Z
URL:https://www.bamberg.info/veranstaltungen/weihnachtszauber_bamberg-35471
 5-0/
LOCATION:BAMBERG Tourismus & Kongress Service - Bamberg
SUMMARY:Weihnachtszauber Bamberg
DTSTAMP:20260420T212415Z
END:VEVENT
BEGIN:VEVENT
UID:69e67d5f07f45
DTSTART:20261128T070000Z
SEQUENCE:0
TRANSP:OPAQUE
DTEND:20261128T083000Z
URL:https://www.bamberg.info/veranstaltungen/weihnachtszauber_bamberg-35471
 5-0/
LOCATION:BAMBERG Tourismus & Kongress Service - Bamberg
SUMMARY:Weihnachtszauber Bamberg
DTSTAMP:20260420T212415Z
END:VEVENT
BEGIN:VEVENT
UID:69e67d5f07f4d
DTSTART:20261129T070000Z
SEQUENCE:0
TRANSP:OPAQUE
DTEND:20261129T083000Z
URL:https://www.bamberg.info/veranstaltungen/weihnachtszauber_bamberg-35471
 5-0/
LOCATION:BAMBERG Tourismus & Kongress Service - Bamberg
SUMMARY:Weihnachtszauber Bamberg
DTSTAMP:20260420T212415Z
END:VEVENT
BEGIN:VEVENT
UID:69e67d5f07f55
DTSTART:20261130T070000Z
SEQUENCE:0
TRANSP:OPAQUE
DTEND:20261130T083000Z
URL:https://www.bamberg.info/veranstaltungen/weihnachtszauber_bamberg-35471
 5-0/
LOCATION:BAMBERG Tourismus & Kongress Service - Bamberg
SUMMARY:Weihnachtszauber Bamberg
DTSTAMP:20260420T212415Z
END:VEVENT
BEGIN:VEVENT
UID:69e67d5f07f5d
DTSTART:20261201T070000Z
SEQUENCE:0
TRANSP:OPAQUE
DTEND:20261201T083000Z
URL:https://www.bamberg.info/veranstaltungen/weihnachtszauber_bamberg-35471
 5-0/
LOCATION:BAMBERG Tourismus & Kongress Service - Bamberg
SUMMARY:Weihnachtszauber Bamberg
DTSTAMP:20260420T212415Z
END:VEVENT
BEGIN:VEVENT
UID:69e67d5f07f64
DTSTART:20261202T070000Z
SEQUENCE:0
TRANSP:OPAQUE
DTEND:20261202T083000Z
URL:https://www.bamberg.info/veranstaltungen/weihnachtszauber_bamberg-35471
 5-0/
LOCATION:BAMBERG Tourismus & Kongress Service - Bamberg
SUMMARY:Weihnachtszauber Bamberg
DTSTAMP:20260420T212415Z
END:VEVENT
BEGIN:VEVENT
UID:69e67d5f07f6c
DTSTART:20261203T070000Z
SEQUENCE:0
TRANSP:OPAQUE
DTEND:20261203T083000Z
URL:https://www.bamberg.info/veranstaltungen/weihnachtszauber_bamberg-35471
 5-0/
LOCATION:BAMBERG Tourismus & Kongress Service - Bamberg
SUMMARY:Weihnachtszauber Bamberg
DTSTAMP:20260420T212415Z
END:VEVENT
BEGIN:VEVENT
UID:69e67d5f07f73
DTSTART:20261204T070000Z
SEQUENCE:0
TRANSP:OPAQUE
DTEND:20261204T083000Z
URL:https://www.bamberg.info/veranstaltungen/weihnachtszauber_bamberg-35471
 5-0/
LOCATION:BAMBERG Tourismus & Kongress Service - Bamberg
SUMMARY:Weihnachtszauber Bamberg
DTSTAMP:20260420T212415Z
END:VEVENT
BEGIN:VEVENT
UID:69e67d5f07f7c
DTSTART:20261205T070000Z
SEQUENCE:0
TRANSP:OPAQUE
DTEND:20261205T083000Z
URL:https://www.bamberg.info/veranstaltungen/weihnachtszauber_bamberg-35471
 5-0/
LOCATION:BAMBERG Tourismus & Kongress Service - Bamberg
SUMMARY:Weihnachtszauber Bamberg
DTSTAMP:20260420T212415Z
END:VEVENT
BEGIN:VEVENT
UID:69e67d5f07f84
DTSTART:20261206T070000Z
SEQUENCE:0
TRANSP:OPAQUE
DTEND:20261206T083000Z
URL:https://www.bamberg.info/veranstaltungen/weihnachtszauber_bamberg-35471
 5-0/
LOCATION:BAMBERG Tourismus & Kongress Service - Bamberg
SUMMARY:Weihnachtszauber Bamberg
DTSTAMP:20260420T212415Z
END:VEVENT
BEGIN:VEVENT
UID:69e67d5f07f8c
DTSTART:20261207T070000Z
SEQUENCE:0
TRANSP:OPAQUE
DTEND:20261207T083000Z
URL:https://www.bamberg.info/veranstaltungen/weihnachtszauber_bamberg-35471
 5-0/
LOCATION:BAMBERG Tourismus & Kongress Service - Bamberg
SUMMARY:Weihnachtszauber Bamberg
DTSTAMP:20260420T212415Z
END:VEVENT
BEGIN:VEVENT
UID:69e67d5f07f93
DTSTART:20261208T070000Z
SEQUENCE:0
TRANSP:OPAQUE
DTEND:20261208T083000Z
URL:https://www.bamberg.info/veranstaltungen/weihnachtszauber_bamberg-35471
 5-0/
LOCATION:BAMBERG Tourismus & Kongress Service - Bamberg
SUMMARY:Weihnachtszauber Bamberg
DTSTAMP:20260420T212415Z
END:VEVENT
BEGIN:VEVENT
UID:69e67d5f07f9b
DTSTART:20261209T070000Z
SEQUENCE:0
TRANSP:OPAQUE
DTEND:20261209T083000Z
URL:https://www.bamberg.info/veranstaltungen/weihnachtszauber_bamberg-35471
 5-0/
LOCATION:BAMBERG Tourismus & Kongress Service - Bamberg
SUMMARY:Weihnachtszauber Bamberg
DTSTAMP:20260420T212415Z
END:VEVENT
BEGIN:VEVENT
UID:69e67d5f07fa2
DTSTART:20261210T070000Z
SEQUENCE:0
TRANSP:OPAQUE
DTEND:20261210T083000Z
URL:https://www.bamberg.info/veranstaltungen/weihnachtszauber_bamberg-35471
 5-0/
LOCATION:BAMBERG Tourismus & Kongress Service - Bamberg
SUMMARY:Weihnachtszauber Bamberg
DTSTAMP:20260420T212415Z
END:VEVENT
BEGIN:VEVENT
UID:69e67d5f07faa
DTSTART:20261211T070000Z
SEQUENCE:0
TRANSP:OPAQUE
DTEND:20261211T083000Z
URL:https://www.bamberg.info/veranstaltungen/weihnachtszauber_bamberg-35471
 5-0/
LOCATION:BAMBERG Tourismus & Kongress Service - Bamberg
SUMMARY:Weihnachtszauber Bamberg
DTSTAMP:20260420T212415Z
END:VEVENT
BEGIN:VEVENT
UID:69e67d5f07fb2
DTSTART:20261212T070000Z
SEQUENCE:0
TRANSP:OPAQUE
DTEND:20261212T083000Z
URL:https://www.bamberg.info/veranstaltungen/weihnachtszauber_bamberg-35471
 5-0/
LOCATION:BAMBERG Tourismus & Kongress Service - Bamberg
SUMMARY:Weihnachtszauber Bamberg
DTSTAMP:20260420T212415Z
END:VEVENT
BEGIN:VEVENT
UID:69e67d5f07fbb
DTSTART:20261213T070000Z
SEQUENCE:0
TRANSP:OPAQUE
DTEND:20261213T083000Z
URL:https://www.bamberg.info/veranstaltungen/weihnachtszauber_bamberg-35471
 5-0/
LOCATION:BAMBERG Tourismus & Kongress Service - Bamberg
SUMMARY:Weihnachtszauber Bamberg
DTSTAMP:20260420T212415Z
END:VEVENT
BEGIN:VEVENT
UID:69e67d5f07fc3
DTSTART:20261214T070000Z
SEQUENCE:0
TRANSP:OPAQUE
DTEND:20261214T083000Z
URL:https://www.bamberg.info/veranstaltungen/weihnachtszauber_bamberg-35471
 5-0/
LOCATION:BAMBERG Tourismus & Kongress Service - Bamberg
SUMMARY:Weihnachtszauber Bamberg
DTSTAMP:20260420T212415Z
END:VEVENT
BEGIN:VEVENT
UID:69e67d5f07fcb
DTSTART:20261215T070000Z
SEQUENCE:0
TRANSP:OPAQUE
DTEND:20261215T083000Z
URL:https://www.bamberg.info/veranstaltungen/weihnachtszauber_bamberg-35471
 5-0/
LOCATION:BAMBERG Tourismus & Kongress Service - Bamberg
SUMMARY:Weihnachtszauber Bamberg
DTSTAMP:20260420T212415Z
END:VEVENT
BEGIN:VEVENT
UID:69e67d5f07fd2
DTSTART:20261216T070000Z
SEQUENCE:0
TRANSP:OPAQUE
DTEND:20261216T083000Z
URL:https://www.bamberg.info/veranstaltungen/weihnachtszauber_bamberg-35471
 5-0/
LOCATION:BAMBERG Tourismus & Kongress Service - Bamberg
SUMMARY:Weihnachtszauber Bamberg
DTSTAMP:20260420T212415Z
END:VEVENT
BEGIN:VEVENT
UID:69e67d5f07fda
DTSTART:20261217T070000Z
SEQUENCE:0
TRANSP:OPAQUE
DTEND:20261217T083000Z
URL:https://www.bamberg.info/veranstaltungen/weihnachtszauber_bamberg-35471
 5-0/
LOCATION:BAMBERG Tourismus & Kongress Service - Bamberg
SUMMARY:Weihnachtszauber Bamberg
DTSTAMP:20260420T212415Z
END:VEVENT
BEGIN:VEVENT
UID:69e67d5f07fe2
DTSTART:20261218T070000Z
SEQUENCE:0
TRANSP:OPAQUE
DTEND:20261218T083000Z
URL:https://www.bamberg.info/veranstaltungen/weihnachtszauber_bamberg-35471
 5-0/
LOCATION:BAMBERG Tourismus & Kongress Service - Bamberg
SUMMARY:Weihnachtszauber Bamberg
DTSTAMP:20260420T212415Z
END:VEVENT
BEGIN:VEVENT
UID:69e67d5f07fe9
DTSTART:20261219T070000Z
SEQUENCE:0
TRANSP:OPAQUE
DTEND:20261219T083000Z
URL:https://www.bamberg.info/veranstaltungen/weihnachtszauber_bamberg-35471
 5-0/
LOCATION:BAMBERG Tourismus & Kongress Service - Bamberg
SUMMARY:Weihnachtszauber Bamberg
DTSTAMP:20260420T212415Z
END:VEVENT
BEGIN:VEVENT
UID:69e67d5f07ff1
DTSTART:20261220T070000Z
SEQUENCE:0
TRANSP:OPAQUE
DTEND:20261220T083000Z
URL:https://www.bamberg.info/veranstaltungen/weihnachtszauber_bamberg-35471
 5-0/
LOCATION:BAMBERG Tourismus & Kongress Service - Bamberg
SUMMARY:Weihnachtszauber Bamberg
DTSTAMP:20260420T212415Z
END:VEVENT
BEGIN:VEVENT
UID:69e67d5f07ff9
DTSTART:20261221T070000Z
SEQUENCE:0
TRANSP:OPAQUE
DTEND:20261221T083000Z
URL:https://www.bamberg.info/veranstaltungen/weihnachtszauber_bamberg-35471
 5-0/
LOCATION:BAMBERG Tourismus & Kongress Service - Bamberg
SUMMARY:Weihnachtszauber Bamberg
DTSTAMP:20260420T212415Z
END:VEVENT
BEGIN:VEVENT
UID:69e67d5f08000
DTSTART:20261222T070000Z
SEQUENCE:0
TRANSP:OPAQUE
DTEND:20261222T083000Z
URL:https://www.bamberg.info/veranstaltungen/weihnachtszauber_bamberg-35471
 5-0/
LOCATION:BAMBERG Tourismus & Kongress Service - Bamberg
SUMMARY:Weihnachtszauber Bamberg
DTSTAMP:20260420T212415Z
END:VEVENT
BEGIN:VEVENT
UID:69e67d5f08008
DTSTART:20261223T070000Z
SEQUENCE:0
TRANSP:OPAQUE
DTEND:20261223T083000Z
URL:https://www.bamberg.info/veranstaltungen/weihnachtszauber_bamberg-35471
 5-0/
LOCATION:BAMBERG Tourismus & Kongress Service - Bamberg
SUMMARY:Weihnachtszauber Bamberg
DTSTAMP:20260420T212415Z
END:VEVENT
BEGIN:VEVENT
UID:69e67d5f08010
DTSTART:20261224T070000Z
SEQUENCE:0
TRANSP:OPAQUE
DTEND:20261224T083000Z
URL:https://www.bamberg.info/veranstaltungen/weihnachtszauber_bamberg-35471
 5-0/
LOCATION:BAMBERG Tourismus & Kongress Service - Bamberg
SUMMARY:Weihnachtszauber Bamberg
DTSTAMP:20260420T212415Z
END:VEVENT
BEGIN:VEVENT
UID:69e67d5f08017
DTSTART:20261225T070000Z
SEQUENCE:0
TRANSP:OPAQUE
DTEND:20261225T083000Z
URL:https://www.bamberg.info/veranstaltungen/weihnachtszauber_bamberg-35471
 5-0/
LOCATION:BAMBERG Tourismus & Kongress Service - Bamberg
SUMMARY:Weihnachtszauber Bamberg
DTSTAMP:20260420T212415Z
END:VEVENT
BEGIN:VEVENT
UID:69e67d5f0803c
DTSTART:20261226T070000Z
SEQUENCE:0
TRANSP:OPAQUE
DTEND:20261226T083000Z
URL:https://www.bamberg.info/veranstaltungen/weihnachtszauber_bamberg-35471
 5-0/
LOCATION:BAMBERG Tourismus & Kongress Service - Bamberg
SUMMARY:Weihnachtszauber Bamberg
DTSTAMP:20260420T212415Z
END:VEVENT
BEGIN:VEVENT
UID:69e67d5f08044
DTSTART:20261227T070000Z
SEQUENCE:0
TRANSP:OPAQUE
DTEND:20261227T083000Z
URL:https://www.bamberg.info/veranstaltungen/weihnachtszauber_bamberg-35471
 5-0/
LOCATION:BAMBERG Tourismus & Kongress Service - Bamberg
SUMMARY:Weihnachtszauber Bamberg
DTSTAMP:20260420T212415Z
END:VEVENT
BEGIN:VEVENT
UID:69e67d5f0804c
DTSTART:20261228T070000Z
SEQUENCE:0
TRANSP:OPAQUE
DTEND:20261228T083000Z
URL:https://www.bamberg.info/veranstaltungen/weihnachtszauber_bamberg-35471
 5-0/
LOCATION:BAMBERG Tourismus & Kongress Service - Bamberg
SUMMARY:Weihnachtszauber Bamberg
DTSTAMP:20260420T212415Z
END:VEVENT
BEGIN:VEVENT
UID:69e67d5f08055
DTSTART:20261229T070000Z
SEQUENCE:0
TRANSP:OPAQUE
DTEND:20261229T083000Z
URL:https://www.bamberg.info/veranstaltungen/weihnachtszauber_bamberg-35471
 5-0/
LOCATION:BAMBERG Tourismus & Kongress Service - Bamberg
SUMMARY:Weihnachtszauber Bamberg
DTSTAMP:20260420T212415Z
END:VEVENT
BEGIN:VEVENT
UID:69e67d5f08064
DTSTART:20261230T070000Z
SEQUENCE:0
TRANSP:OPAQUE
DTEND:20261230T083000Z
URL:https://www.bamberg.info/veranstaltungen/weihnachtszauber_bamberg-35471
 5-0/
LOCATION:BAMBERG Tourismus & Kongress Service - Bamberg
SUMMARY:Weihnachtszauber Bamberg
DTSTAMP:20260420T212415Z
END:VEVENT
BEGIN:VEVENT
UID:69e67d5f0806c
DTSTART:20261231T070000Z
SEQUENCE:0
TRANSP:OPAQUE
DTEND:20261231T083000Z
URL:https://www.bamberg.info/veranstaltungen/weihnachtszauber_bamberg-35471
 5-0/
LOCATION:BAMBERG Tourismus & Kongress Service - Bamberg
SUMMARY:Weihnachtszauber Bamberg
DTSTAMP:20260420T212415Z
END:VEVENT
BEGIN:VEVENT
UID:69e67d5f08074
DTSTART:20270101T070000Z
SEQUENCE:0
TRANSP:OPAQUE
DTEND:20270101T083000Z
URL:https://www.bamberg.info/veranstaltungen/weihnachtszauber_bamberg-35471
 5-0/
LOCATION:BAMBERG Tourismus & Kongress Service - Bamberg
SUMMARY:Weihnachtszauber Bamberg
DTSTAMP:20260420T212415Z
END:VEVENT
BEGIN:VEVENT
UID:69e67d5f08081
DTSTART:20270102T070000Z
SEQUENCE:0
TRANSP:OPAQUE
DTEND:20270102T083000Z
URL:https://www.bamberg.info/veranstaltungen/weihnachtszauber_bamberg-35471
 5-0/
LOCATION:BAMBERG Tourismus & Kongress Service - Bamberg
SUMMARY:Weihnachtszauber Bamberg
DTSTAMP:20260420T212415Z
END:VEVENT
BEGIN:VEVENT
UID:69e67d5f08089
DTSTART:20270103T070000Z
SEQUENCE:0
TRANSP:OPAQUE
DTEND:20270103T083000Z
URL:https://www.bamberg.info/veranstaltungen/weihnachtszauber_bamberg-35471
 5-0/
LOCATION:BAMBERG Tourismus & Kongress Service - Bamberg
SUMMARY:Weihnachtszauber Bamberg
DTSTAMP:20260420T212415Z
END:VEVENT
BEGIN:VEVENT
UID:69e67d5f08091
DTSTART:20270104T070000Z
SEQUENCE:0
TRANSP:OPAQUE
DTEND:20270104T083000Z
URL:https://www.bamberg.info/veranstaltungen/weihnachtszauber_bamberg-35471
 5-0/
LOCATION:BAMBERG Tourismus & Kongress Service - Bamberg
SUMMARY:Weihnachtszauber Bamberg
DTSTAMP:20260420T212415Z
END:VEVENT
BEGIN:VEVENT
UID:69e67d5f08098
DTSTART:20270105T070000Z
SEQUENCE:0
TRANSP:OPAQUE
DTEND:20270105T083000Z
URL:https://www.bamberg.info/veranstaltungen/weihnachtszauber_bamberg-35471
 5-0/
LOCATION:BAMBERG Tourismus & Kongress Service - Bamberg
SUMMARY:Weihnachtszauber Bamberg
DTSTAMP:20260420T212415Z
END:VEVENT
END:VCALENDAR