BEGIN:VCALENDAR
VERSION:2.0
PRODID:https://www.bamberg.info/
X-PUBLISHED-TTL:P1D
BEGIN:VEVENT
UID:69e99ea1c64aa
DTSTART;VALUE=DATE:20260604
SEQUENCE:0
TRANSP:OPAQUE
DTEND;VALUE=DATE:20260604
URL:https://www.bamberg.info/veranstaltungen/william_shakespeare_macbeth_in
 -808887-12683235/
LOCATION:ETA Hoffmann Theater Bamberg - Bamberg
SUMMARY:William Shakespeare: Macbeth (In Concert) - zum letzten Mal
DESCRIPTION:Freier Verkauf
X-MICROSOFT-CDO-ALLDAYEVENT:TRUE
DTSTAMP:20260423T062257Z
END:VEVENT
END:VCALENDAR